BEGIN:VCALENDAR
VERSION:2.0
PRODID:-//Tukios.com/
BEGIN:VEVENT
UID:f7453cd4-fd63-4bdd-b42d-d14aa422a6b4@www.mccammonammonsclick.com
DTSTAMP:20260423T232636Z
DTSTART:20260427T210000Z
DTEND:20260427T220000Z
SUMMARY:Funeral Service
DESCRIPTION:Interment will immediately follow.
URL:https://www.mccammonammonsclick.com/obituaries/anna-lou-leonard
LOCATION:Pleasant Hill Methodist Church 503 Pleasant Hill Road  Maryville 
	TN 37803
GEO:35.7347736;-83.9325919
END:VEVENT
END:VCALENDAR