BEGIN:VCALENDAR
VERSION:2.0
PRODID:-//Tukios.com/
BEGIN:VEVENT
UID:990db24e-f1d1-4620-a51e-000f56a58801@www.mccammonammonsclick.com
DTSTAMP:20260421T123223Z
DTSTART:20260418T170000Z
DTEND:20260418T180000Z
SUMMARY:Graveside Service
DESCRIPTION:
URL:https://www.mccammonammonsclick.com/obituaries/jane-dominick
LOCATION:Magnolia Cemetery 600 Montvale Road  Maryville TN 37803
GEO:35.7493585;-83.9718619
END:VEVENT
END:VCALENDAR