BEGIN:VCALENDAR
VERSION:2.0
PRODID:-//Tukios.com/
BEGIN:VEVENT
UID:93f52469-ef00-43d8-a95b-53c7d2412d16@www.mccammonammonsclick.com
DTSTAMP:20260420T184951Z
DTSTART:20260423T210000Z
DTEND:20260423T230000Z
SUMMARY:Visitation
DESCRIPTION:
URL:https://www.mccammonammonsclick.com/obituaries/mary-carol-moffett
LOCATION:Immanuel Baptist Church 4641 Morganton Road  Maryville TN 37801
GEO:35.6917625;-84.0953056
END:VEVENT
END:VCALENDAR