BEGIN:VCALENDAR
VERSION:2.0
PRODID:-//Tukios.com/
BEGIN:VEVENT
UID:faefb783-5aef-48a7-843b-769fbf213664@www.mccammonammonsclick.com
DTSTAMP:20260420T184644Z
DTSTART:20260423T230000Z
DTEND:20260424T000000Z
SUMMARY:Funeral Service
DESCRIPTION:
URL:https://www.mccammonammonsclick.com/obituaries/mary-carol-moffett
LOCATION:Immanuel Baptist Church 4641 Morganton Road  Maryville TN 37801
GEO:35.6917625;-84.0953056
END:VEVENT
END:VCALENDAR