BEGIN:VCALENDAR
VERSION:2.0
PRODID:-//Tukios.com/
BEGIN:VEVENT
UID:06eefa14-13b4-4704-96e4-6242b3d1eebb@www.mccammonammonsclick.com
DTSTAMP:20260420T184940Z
DTSTART:20260424T150000Z
DTEND:20260424T160000Z
SUMMARY:Graveside Service
DESCRIPTION:
URL:https://www.mccammonammonsclick.com/obituaries/mary-carol-moffett
LOCATION: 4602 Salem Road  Greenback TN 37742
GEO:35.6981961;-84.1017399
END:VEVENT
END:VCALENDAR